BEGIN:VCALENDAR
PRODID:NingEventWidget-v1
VERSION:2.0
METHOD:PUBLISH
BEGIN:VEVENT
UID:4320450:Event:42947
DTSTAMP:20260425T141121Z
SUMMARY:Stars Ball 2015
DESCRIPTION:Non-profit children’s charity Little Smiles will host it
 s eighth annual heartwarming celebration and fundraising event, Stars 
 Ball. This year’s event, “A Night at the Oscars,” will award thi
 rteen children who are battling chronic or acute illnesses or other li
 fe-altering conditions for their courage and resilience. The evening w
 ill be modeled after the Oscars, and just like Hollywood’s most glam
 orous, the children will be dressed up in beautiful gowns, jewels and 
 tuxedos. The event will feature dinner and drinks, dancing, fabulous s
 ilent and live auctions, a photo booth and other activities.  For mor
 e information and to purchase tickets, go to www.phillystarsball.com\n
 \nFor more information visit http://phillytodo.com/events/stars-ball-2
 015
DTSTART:20151114T230000Z
DTEND:20151115T040000Z
CATEGORIES:fundraiser
LOCATION:Philadelphia Marriott Downtown
WEBSITE:http://www.marriott.com/hotels/hotel-photos/phldt-philadelphia
 -marriott-downtown/
URL:http://www.marriott.com/hotels/hotel-photos/phldt-philadelphia-mar
 riott-downtown/
CONTACT:2156252900
ORGANIZER;CN=CashmanAssoc:http://phillytodo.com/profile/CashmanAssoc
ATTACH;FMTTYPE="image/jpeg":http://storage.ning.com/topology/rest/1.0/
 file/get/3054990032?profile=original
ATTENDEE;ROLE=REQ-PARTICIPANT;PARTSTAT=ACCEPTED;RSVP=TRUE;CN=CashmanAs
 soc:http://phillytodo.com/profile/CashmanAssoc
END:VEVENT
END:VCALENDAR
