BEGIN:VCALENDAR
PRODID:NingEventWidget-v1
VERSION:2.0
METHOD:PUBLISH
BEGIN:VEVENT
UID:4320450:Event:41227
DTSTAMP:20260425T143451Z
SUMMARY:Star Wars Day at Please Touch Museum
DESCRIPTION:Please Touch Museum will transport visitors to a galaxy fa
 r, far away during a celebration of all things Star Wars. Families are
  encouraged to dress as their favorite Star Wars characters and enjoy 
 visits from beloved (and despised) characters as well as space and Sta
 r Wars themed activities, programming and collections cases.    \n\
 nFor more information visit http://phillytodo.com/events/star-wars-day
 -at-please-touch-museum
DTSTART:20150823T150000Z
DTEND:20150823T210000Z
CATEGORIES:family
LOCATION:Please Touch Museum
WEBSITE:http://ow.ly/P3DkW
URL:http://ow.ly/P3DkW
CONTACT:2155813181
ORGANIZER;CN="Please Touch Museum":http://phillytodo.com/profile/Pleas
 eTouchMuseum
ATTACH;FMTTYPE="image/jpeg":http://storage.ning.com/topology/rest/1.0/
 file/get/3054989571?profile=original
ATTENDEE;ROLE=REQ-PARTICIPANT;PARTSTAT=ACCEPTED;RSVP=TRUE;CN="Please T
 ouch Museum":http://phillytodo.com/profile/PleaseTouchMuseum
END:VEVENT
END:VCALENDAR
