BEGIN:VCALENDAR
PRODID:NingEventWidget-v1
VERSION:2.0
METHOD:PUBLISH
BEGIN:VEVENT
UID:4320450:Event:38402
DTSTAMP:20260425T142757Z
SUMMARY:Stand-Up Comedy: The Magnificent Seven, Part VII
DESCRIPTION:THE MAGNIFICENT SEVEN is a stand-up comedy showcase hosted
  by Aaron Hertzog (Helium Comedy Club; 2013 WitOut Award Winner: Best 
 Stand-up) and Alison Zeidman (Nominee, 2013 Philebrity Comedian of the
  Year).Â The Magnificent Seven Part VII will feature stand-up from som
 e of Philly's top comedians:Michelle Biloon: Comedy Central, Craig Fer
 guson, Chelsea LatelyChip Chantry: Winner, 2013 Philly's Phunniest Per
 sonBobby Lorello: Philadelphia's \"Bad Boy of Comedy\"John McKeever: J
 ust For Laughs Comedy FestivalJuliet Hope Wayne: MOTH Grandslam Winner
 , Philadelphia Magazine's Best Comedian 2012Tickets available online:Â
  http://www.bootandsaddlephilly.com/event/667453Doors at 8, Show at 9\
 n\nFor more information visit http://phillytodo.com/events/stand-up-co
 medy-the-magnificent-seven-part-vii
DTSTART:20141031T000000Z
DTEND:20141031T030000Z
CATEGORIES:stand-up, comedy
LOCATION:Boot & Saddle
WEBSITE:http://www.bootandsaddlephilly.com/event/667453
URL:http://www.bootandsaddlephilly.com/event/667453
CONTACT:
ORGANIZER;CN="Free For All":http://phillytodo.com/profile/FreeForAll
ATTACH;FMTTYPE="image/jpeg":http://storage.ning.com/topology/rest/1.0/
 file/get/3054979781?profile=original
ATTENDEE;ROLE=REQ-PARTICIPANT;PARTSTAT=ACCEPTED;RSVP=TRUE;CN="Free For
  All":http://phillytodo.com/profile/FreeForAll
END:VEVENT
END:VCALENDAR
