BEGIN:VCALENDAR
PRODID:NingEventWidget-v1
VERSION:2.0
METHOD:PUBLISH
BEGIN:VEVENT
UID:4320450:Event:52089
DTSTAMP:20260425T132727Z
SUMMARY:Stag &amp; Doe Nights in Chestnut Hill
DESCRIPTION:Get into the holiday spirit with one of Chestnut Hill’s 
 oldest and most beloved holiday traditions! On Wednesday nights throug
 hout December (12/6,13,20), stroll along the festive Germantown Avenue
  and enjoy extended store hours (until 9 PM) along with holiday sales 
 and promotions throughout the Chestnut Hill shopping district. Celebra
 te the season with live entertainment, seasonal treats, dazzling light
 s, and a visit from the jolly old elf, himself. Eat, drink, and be mer
 ry this season in Chestnut Hill!\n\nFor more information visit http://
 phillytodo.com/events/stag-amp-doe-nights-in-chestnut-hill
DTSTART:20171206T230000Z
DTEND:20171221T020000Z
CATEGORIES:holiday, sales, shopping, live, entertainment, "&amp", fest
 ivities
LOCATION:Chestnut Hill Business District
WEBSITE:http://www.chestnuthillpa.com
URL:http://www.chestnuthillpa.com
CONTACT:
ORGANIZER:
ATTACH;FMTTYPE="image/jpeg":http://storage.ning.com/topology/rest/1.0/
 file/get/3055009531?profile=original
ATTENDEE;ROLE=REQ-PARTICIPANT;PARTSTAT=ACCEPTED;RSVP=TRUE;CN="Bryan Ch
 an":http://phillytodo.com/profile/BryanChan
END:VEVENT
END:VCALENDAR
