BEGIN:VCALENDAR
PRODID:NingEventWidget-v1
VERSION:2.0
METHOD:PUBLISH
BEGIN:VEVENT
UID:4320450:Event:29418
DTSTAMP:20260425T143438Z
SUMMARY:St. Valentine's Day Massacre
DESCRIPTION:Bearcats, Bimbos & Birds Looking to Get Bent,\n\nDust off 
 your glad rags and break out the white lightning: the blow is back for
  the 3rd year in a row in the City of Brotherly Love.\nSecret Location
  will be announced after ticket purchase to keep the fuzz on their to
 es (It's in the city & accessible via SEPTA).\n\nWe're going on a toot
  at a new juice joint this year so don't get left holding the bag and 
 dish out the dough for your tickets now - space is limited and since w
 e're hitting on all sixes, we're sure to sell out.\n\nSpread the word 
 to any floor-flushers, cake-eaters & lolly-gaggers who want to get a w
 iggle on because day-of entrance costs more mazuma, so anyone that kno
 ws one's onions will be hot to trot.\n\nPeriod appropriate attire REQU
 IRED.\n\nFor more information visit http://phillytodo.com/events/st-va
 lentine-s-day-massacre
DTSTART:20130217T020000Z
DTEND:20130217T070000Z
CATEGORIES:"20's", themed, party
LOCATION:Released upon Ticket Purchase (To Keep the Fuzz on their Toes
 )
WEBSITE:http://svdm.eventbrite.com
URL:http://svdm.eventbrite.com
CONTACT:
ORGANIZER;CN="PARTYPLANT @prtyplnt":http://phillytodo.com/profile/PART
 YPLANT
ATTACH;FMTTYPE="image/jpeg":http://storage.ning.com/topology/rest/1.0/
 file/get/3054963258?profile=original
ATTENDEE;ROLE=REQ-PARTICIPANT;PARTSTAT=ACCEPTED;RSVP=TRUE;CN="PARTYPLA
 NT @prtyplnt":http://phillytodo.com/profile/PARTYPLANT
END:VEVENT
END:VCALENDAR
