BEGIN:VCALENDAR
PRODID:NingEventWidget-v1
VERSION:2.0
METHOD:PUBLISH
BEGIN:VEVENT
UID:4320450:Event:40610
DTSTAMP:20260425T124920Z
SUMMARY:St. Patrick’s Day Celebration
DESCRIPTION:Celebrate St. Patrick’s Day on Tuesday, March 17, 2015 a
 t Bridget Foy’s (200 South Street) with Irish music, food and drink 
 specials. The dining room and bar open at Noon. Connemara Codfish Comp
 any presents free Irish music at 6:30pm. Specials during the day will 
 include Guinness Beef Stew, Corned Beef and Cabbage, Seamus Irish Red 
 Ale, Donnybrook Stout Drafts, Irish Whiskey Flights - plus 2Gingers Wh
 iskey for $5.00. Free admission, with food and drink pay-as-you-go. 21
  and up (with identification) to drink. For more info, visit www.bridg
 etfoys.com, tweet @BridgetFoys, or call 215-922-1813.\n\nFor more info
 rmation visit http://phillytodo.com/events/st-patrick-s-day-celebratio
 n
DTSTART:20150317T223000Z
DTEND:20150318T020000Z
CATEGORIES:"st.", "patrick's", day, celebration
LOCATION:Bridget Foy's
WEBSITE:https://www.facebook.com/events/1600724760146004/
URL:https://www.facebook.com/events/1600724760146004/
CONTACT:215-922-1813
ORGANIZER:Bridget Foy
ATTACH;FMTTYPE="image/jpeg":http://storage.ning.com/topology/rest/1.0/
 file/get/3054987140?profile=original
ATTENDEE;ROLE=REQ-PARTICIPANT;PARTSTAT=ACCEPTED;RSVP=TRUE;CN="Aversa P
 R & Events":http://phillytodo.com/profile/KoryAversa277
END:VEVENT
END:VCALENDAR
