BEGIN:VCALENDAR
PRODID:NingEventWidget-v1
VERSION:2.0
METHOD:PUBLISH
BEGIN:VEVENT
UID:4320450:Event:40518
DTSTAMP:20260425T125001Z
SUMMARY:St. Patrick’s Concert and Celebration
DESCRIPTION:Celebrate the luck of the Irish on Sunday, March 15, 2015 
 at Bridget Foy’s (200 South Street) with food and drink specials, in
 cluding Guinness Beef Stew, Corned Beef and Cabbage, Seamus Irish Red 
 Ale, Donnybrook Stout Drafts, Irish Whiskey Flights - plus 2Gingers Wh
 iskey for $5.00. Connemara Codfish Company presents free Irish music a
 t 3:00pm. Doors for brunch, lunch and the bar open bright and early at
  10:00am. Enjoy a table on the patio and watch the brigades come down 
 South Street after Philadelphia’s St. Patrick’s Day Parade. Free a
 dmission, with food and drink pay-as-you-go. 21 and up (with identific
 ation) to drink. For more info, visit www.bridgetfoys.com, tweet @Brid
 getFoys, or call 215-922-1813.\n\nFor more information visit http://ph
 illytodo.com/events/st-patrick-s-concert-and-celebration
DTSTART:20150315T190000Z
DTEND:20150316T020000Z
CATEGORIES:"st.", "patrick's", weekend, celebration
LOCATION:Bridget Foy's
WEBSITE:https://www.facebook.com/events/1600724760146004/
URL:https://www.facebook.com/events/1600724760146004/
CONTACT:215-922-1813
ORGANIZER:Bridget Foy
ATTACH;FMTTYPE="image/jpeg":http://storage.ning.com/topology/rest/1.0/
 file/get/3054987140?profile=original
ATTENDEE;ROLE=REQ-PARTICIPANT;PARTSTAT=ACCEPTED;RSVP=TRUE;CN="Aversa P
 R & Events":http://phillytodo.com/profile/KoryAversa277
END:VEVENT
END:VCALENDAR
