BEGIN:VCALENDAR
PRODID:NingEventWidget-v1
VERSION:2.0
METHOD:PUBLISH
BEGIN:VEVENT
UID:4320450:Event:45046
DTSTAMP:20260425T125030Z
SUMMARY:St. Paddy's Day Party
DESCRIPTION:Don't miss the biggest St. Paddy's Day in Philly on Saturd
 ay, March 12th.  Live performances by Lima Bean Riot in Victory Beer H
 all.  Celebrate the Irish with us with a CASH Balloon Drop, Irish acou
 stic tunes and a Pot of Gold full of awesome prizes!  Enjoy drink spec
 ials including: - $3 Green Beer, $4 Select Cocktails and $5 Irish Car 
 Bombs.  Free parking is available after 8pm. - See more at: http://www
 .xfinitylive.com/entertainment/event/6858#sthash.SZ6QuQnK.dpuf\n\nFor 
 more information visit http://phillytodo.com/events/st-paddy-s-day-par
 ty-1
DTSTART:20160312T220000Z
DTEND:20160313T044500Z
CATEGORIES:"st.", "paddy's", day, party
LOCATION:XFINITY Live!
WEBSITE:http://www.xfinitylive.com/entertainment/event/6858
URL:http://www.xfinitylive.com/entertainment/event/6858
CONTACT:
ORGANIZER;CN="XFINITY Live! Philadelphia":http://phillytodo.com/profil
 e/XFINITYLivePhiladelphia
ATTACH;FMTTYPE="image/jpeg":http://storage.ning.com/topology/rest/1.0/
 file/get/3054995250?profile=original
ATTENDEE;ROLE=REQ-PARTICIPANT;PARTSTAT=ACCEPTED;RSVP=TRUE;CN="XFINITY 
 Live! Philadelphia":http://phillytodo.com/profile/XFINITYLivePhiladelp
 hia
END:VEVENT
END:VCALENDAR
