BEGIN:VCALENDAR
PRODID:NingEventWidget-v1
VERSION:2.0
METHOD:PUBLISH
BEGIN:VEVENT
UID:4320450:Event:54406
DTSTAMP:20260425T124001Z
SUMMARY:Square 1682 is Bringing Vegas to Philly to Ring in 2018
DESCRIPTION:Square 1682 is introducing Philadelphia to Vegas sparkle 
 and sequins this New Year’s Eve with an extensive bubbles menu, lavi
 sh prix fix dinner and live musical entertainment emceed by lead bart
 ender and singer extraordinaire, Daniel Kulisek. Expect old-school Veg
 as glamour throughout the evening, starting with a welcome glass of ch
 ampagne at dinner and a midnight toast to finish. The prix fix dinner 
 is available for $65 from 5:30 to 11 p.m. Music and entertainment will
  commence at 9 p.m. in the lounge with songs by iconic Vegas performer
 s and Frank Sinatra alike. Guests can sample various bubbly and dance 
 well into the new year at Square 1682. \n\nFor more information visit
  http://phillytodo.com/events/square-1682-is-bringing-vegas-to-philly-
 to-ring-in-2018
DTSTART:20171231T220000Z
DTEND:20180101T070000Z
CATEGORIES:new, "year's", eve
LOCATION:Square 1682
WEBSITE:http://www.square1682.com/events-promotions/special-events.htm
URL:http://www.square1682.com/events-promotions/special-events.htm
CONTACT:215.563.5008
ORGANIZER:Square 1682
ATTACH;FMTTYPE="image/jpeg":http://storage.ning.com/topology/rest/1.0/
 file/get/3055011970?profile=original
ATTENDEE;ROLE=REQ-PARTICIPANT;PARTSTAT=ACCEPTED;RSVP=TRUE;CN="Punch Me
 dia":http://phillytodo.com/profile/PunchMedia
END:VEVENT
END:VCALENDAR
