BEGIN:VCALENDAR
PRODID:NingEventWidget-v1
VERSION:2.0
METHOD:PUBLISH
BEGIN:VEVENT
UID:4320450:Event:45052
DTSTAMP:20260425T205912Z
SUMMARY:Springfest Live! 2016 - The Philadelphia Craft Beer & Music Fe
 stival
DESCRIPTION:Announcing Springfest Live! 2016, The Philadelphia Spring 
 Craft Beer & Music Festival at the incredible XFINITY Live! - complete
  with indoor & covered outdoor beer gardens, 7 spectacular areas with 
 150+ beers to taste, food trucks, multiple musical acts, and MUCH MORE
 ! Grab some friends and come on out for great day of amazing beer-drin
 king fun. FULL DETAILS are below under \"What to Expect\" - Tons of fe
 atures!NEW THIS YEAR!We now have two sessions - FRIDAY (4/22/16, 7pm-1
 1pm) and SATURDAY (4/23/16, 3pm-7pm).Choose which works best for you &
  your friends!\n\nFor more information visit http://phillytodo.com/eve
 nts/springfest-live-2016-the-philadelphia-craft-beer-music-festival
DTSTART:20160422T230000Z
DTEND:20160423T230000Z
CATEGORIES:beer, fest
LOCATION:Xfinity LIVE! Philadelphia
WEBSITE:http://www.upcomingevents.com/e/springfest-live-2016-the-phila
 delphia-craft-beer-music-festival-25492/?ref=ptodo
URL:http://www.upcomingevents.com/e/springfest-live-2016-the-philadelp
 hia-craft-beer-music-festival-25492/?ref=ptodo
CONTACT:8569823581
ORGANIZER;CN="UpcomingEvents.com":http://phillytodo.com/profile/Upcomi
 ngEventscom
ATTACH;FMTTYPE="image/jpeg":http://storage.ning.com/topology/rest/1.0/
 file/get/3054987716?profile=original
ATTENDEE;ROLE=REQ-PARTICIPANT;PARTSTAT=ACCEPTED;RSVP=TRUE;CN="Upcoming
 Events.com":http://phillytodo.com/profile/UpcomingEventscom
END:VEVENT
END:VCALENDAR
