BEGIN:VCALENDAR
PRODID:NingEventWidget-v1
VERSION:2.0
METHOD:PUBLISH
BEGIN:VEVENT
UID:4320450:Event:40714
DTSTAMP:20260425T144141Z
SUMMARY:Springfest Live! 2015 - The Philadelphia Craft Beer & Music Fe
 stival
DESCRIPTION:Announcing Springfest Live! 2015, The Philadelphia Spring 
 Craft Beer & Music Festival at the incredible XFINITY Live! - complete
  with indoor & covered outdoor beer gardens, 7 spectacular areas with 
 150+ beers to taste, food trucks, multiple musical acts, and MUCH MORE
 !  Grab some friends and come on out for great day of amazing beer-dr
 inking fun.  FULL DETAILS are below under \"What to Expect\" - Tons o
 f features!\n \nListen to live bands all day with unlimited sampling 
 of 150+ great beers from 75+ breweries (yes, many awesome spring and e
 arly summer brews will be included) in your own custom stein (served b
 y XFINITY beer wenches) while enjoying live music all day long.  You'
 ll have access to the all the beer gardens too! Entertainment will inc
 lude multiple live DJs, amazing bands, super-fun contests in Victory B
 eer Hall, tons of bartenders & serving spots, outdoor fire pits, games
 , activities, prizes, and giveaways.  PLUS (if you can believe it) MO
 RE!\n \nTickets & More Info:  http://www.upcomingevents.com/philadel
 phia/xfinity-live/springfest/ptodo/\n\nFor more information visit http
 ://phillytodo.com/events/springfest-live-2015-the-philadelphia-craft-b
 eer-music-festival
DTSTART:20150418T180000Z
DTEND:20150418T230000Z
CATEGORIES:spring, festival
LOCATION:XFINITY Live!
WEBSITE:http://www.upcomingevents.com/philadelphia/xfinity-live/spring
 fest/ptodo/
URL:http://www.upcomingevents.com/philadelphia/xfinity-live/springfest
 /ptodo/
CONTACT:
ORGANIZER;CN="UpcomingEvents.com":http://phillytodo.com/profile/Upcomi
 ngEventscom
ATTACH;FMTTYPE="image/jpeg":http://storage.ning.com/topology/rest/1.0/
 file/get/3054987716?profile=original
ATTENDEE;ROLE=REQ-PARTICIPANT;PARTSTAT=ACCEPTED;RSVP=TRUE;CN="Upcoming
 Events.com":http://phillytodo.com/profile/UpcomingEventscom
END:VEVENT
END:VCALENDAR
