BEGIN:VCALENDAR
PRODID:NingEventWidget-v1
VERSION:2.0
METHOD:PUBLISH
BEGIN:VEVENT
UID:4320450:Event:49218
DTSTAMP:20260425T114106Z
SUMMARY:Springfest Live!
DESCRIPTION:Join us on Saturday, April 29 for Springfest Live! Craft B
 eer & Music Festival.VIP entry at 2pm. GA entry at 3pm.Event held at X
 FINITY Live! Philadelphia.Grab your friends and listen to live bands a
 ll day with unlimited samplings of 175+ great beers (including spring 
 and early summer brews). Enjoy live music, contests, games, food truck
 s & much more! VIP and General Admission tickets are on sale! Get your
  early bird tickets while you still can.Share and post your pictures u
 sing #SpringfestLive throughout the day.FREE parking is available in L
 ots S & T near Citizens Bank Park.\n\nFor more information visit http:
 //phillytodo.com/events/springfest-live-1
DTSTART:20170429T190000Z
DTEND:20170429T230000Z
CATEGORIES:beer, festival
LOCATION:XFINITY Live!
WEBSITE:http://www.upcomingevents.com/e/springfest-live-2017-the-phila
 delphia-craft-beer-music-fest-29059/?ref=XLWebsite
URL:http://www.upcomingevents.com/e/springfest-live-2017-the-philadelp
 hia-craft-beer-music-fest-29059/?ref=XLWebsite
CONTACT:2674436406
ORGANIZER:
ATTACH;FMTTYPE="image/jpeg":http://storage.ning.com/topology/rest/1.0/
 file/get/3055002198?profile=original
ATTENDEE;ROLE=REQ-PARTICIPANT;PARTSTAT=ACCEPTED;RSVP=TRUE;CN="XFINITY 
 Live! Philadelphia":http://phillytodo.com/profile/XFINITYLivePhiladelp
 hia
END:VEVENT
END:VCALENDAR
