BEGIN:VCALENDAR
PRODID:NingEventWidget-v1
VERSION:2.0
METHOD:PUBLISH
BEGIN:VEVENT
UID:4320450:Event:58118
DTSTAMP:20260425T124922Z
SUMMARY:Spring Pottery Sale
DESCRIPTION:The Clay Studio’s Annual Pottery Sale returns on May 3 t
 o their outdoor space next to Elfreth’s Alley! Come on down to Old C
 ity and discover a huge selection of ceramic treasures, including art
 ist donations and student work, all at amazing prices! It’s the per
 fect opportunity to buy handmade gifts for Mother’s Day. Also enjoy 
 fresh baked goods to support the Claymobile community program, and sto
 p in The Clay Studio’s galleries and shop to explore works by local 
 and nationally-recognized ceramic artists.\n\nFor more information vis
 it http://phillytodo.com/events/spring-pottery-sale
DTSTART:20190503T160000Z
DTEND:20190504T000000Z
CATEGORIES:pottery, sale
LOCATION:The Clay Studio
WEBSITE:http://info@theclaystudio.org
URL:http://info@theclaystudio.org
CONTACT:
ORGANIZER:
ATTACH;FMTTYPE="image/jpeg":https://storage.ning.com/topology/rest/1.0
 /file/get/1891675091?profile=original
ATTENDEE;ROLE=REQ-PARTICIPANT;PARTSTAT=ACCEPTED;RSVP=TRUE;CN="Bryan Ch
 an":http://phillytodo.com/profile/BryanChan
END:VEVENT
END:VCALENDAR
