BEGIN:VCALENDAR
PRODID:NingEventWidget-v1
VERSION:2.0
METHOD:PUBLISH
BEGIN:VEVENT
UID:4320450:Event:49626
DTSTAMP:20260425T130437Z
SUMMARY:Spring Native Plant Sale
DESCRIPTION:Our annual native plant sale features a spectacular select
 ion of over 150 species of wildflowers and ferns for your garden; warm
  season grasses to replace your turf lawn; and trees, shrubs, and vine
 s for your yard. Stock up on these hardy plants that require less wate
 r, less maintenance, and less attention than those finicky ornamentals
 !\n\nFor more information visit http://phillytodo.com/events/spring-na
 tive-plant-sale
DTSTART:20170429T123000Z
DTEND:20170429T203000Z
CATEGORIES:family
LOCATION:Schuylkill Center
WEBSITE:http://www.schuylkillcenter.org/blog/event/spring-native-plant
 -sale/
URL:http://www.schuylkillcenter.org/blog/event/spring-native-plant-sal
 e/
CONTACT:215-482-7300
ORGANIZER;CN="The Schuylkill Center":http://phillytodo.com/profile/Ann
 aLehrMueser
ATTACH;FMTTYPE="image/jpeg":http://storage.ning.com/topology/rest/1.0/
 file/get/3055002828?profile=original
ATTENDEE;ROLE=REQ-PARTICIPANT;PARTSTAT=ACCEPTED;RSVP=TRUE;CN="The Schu
 ylkill Center":http://phillytodo.com/profile/AnnaLehrMueser
END:VEVENT
END:VCALENDAR
