BEGIN:VCALENDAR
PRODID:NingEventWidget-v1
VERSION:2.0
METHOD:PUBLISH
BEGIN:VEVENT
UID:4320450:Event:55027
DTSTAMP:20260425T114117Z
SUMMARY:Spring Native Plant Sale
DESCRIPTION:Foster biodiversity while creating habitat for birds, poll
 inators, and beneficial insects by purchasing our native plants for yo
 ur yard. Our annual native plant sale features a spectacular selection
  of over 150 species of wildflowers, ferns, shrubs, trees, vines, as w
 ell as warm-season grasses to replace your turf lawn. Stock up on hard
 y plants that require less water, maintenance, and attention than orna
 mentals.All of our selections are native to this region and have been 
 lovingly cared for by our staff and greenhouse volunteers. Heirloom va
 rieties of vegetable and herb starts will be provided by Teens4Good, 
 a local non-profit that supports urban youth farming. Knowledgeable v
 olunteers and plant experts will be available to answer all of your qu
 estions and help you find the plants you need to make your landscape b
 urst with color, texture, and year-round interest.\nMembers enjoy an 
 exclusive preview and botanical cocktail hour on Friday, April 27 fro
 m 5:00–7:30 pm.\n\nFor more information visit http://phillytodo.com/
 events/spring-native-plant-sale-2
DTSTART:20180428T123000Z
DTEND:20180429T170000Z
CATEGORIES:plant, sale
LOCATION:Schuylkill Center for Environmental Education
WEBSITE:http://www.schuylkillcenter.org/blog/event/spring-native-plant
 -sale-3/
URL:http://www.schuylkillcenter.org/blog/event/spring-native-plant-sal
 e-3/
CONTACT:2154827300
ORGANIZER:Schuylkill Center for Environmental Education
ATTACH;FMTTYPE="image/jpeg":http://storage.ning.com/topology/rest/1.0/
 file/get/3055011191?profile=original
ATTENDEE;ROLE=REQ-PARTICIPANT;PARTSTAT=ACCEPTED;RSVP=TRUE;CN="The Schu
 ylkill Center":http://phillytodo.com/profile/AnnaLehrMueser
END:VEVENT
END:VCALENDAR
