BEGIN:VCALENDAR
PRODID:NingEventWidget-v1
VERSION:2.0
METHOD:PUBLISH
BEGIN:VEVENT
UID:4320450:Event:40616
DTSTAMP:20260425T124915Z
SUMMARY:Spring Happy Hour at Bru
DESCRIPTION:Join the board of Young Variety for a happy hour at BRÜ C
 raft & Wurst to welcome Spring and raise money to support Variety Chil
 dren's Charity and the children they serve in the Delaware Valley! Ope
 n Bar, tickets are $35 and available at www.varietyphila.org. After th
 e happy hour join us below BRU in U-BAHN gastropub for more food, fun 
 and drinks!\n\nFor more information visit http://phillytodo.com/events
 /spring-happy-hour-at-bru
DTSTART:20150324T213000Z
DTEND:20150324T233000Z
CATEGORIES:fundraiser
LOCATION:Bru Craft & Wurst
WEBSITE:
URL:
CONTACT:(215) 627-1060
ORGANIZER:Variety- The Children's Charity
ATTACH;FMTTYPE="image/jpeg":http://storage.ning.com/topology/rest/1.0/
 file/get/3054986887?profile=original
ATTENDEE;ROLE=REQ-PARTICIPANT;PARTSTAT=ACCEPTED;RSVP=TRUE;CN=CashmanAs
 soc:http://phillytodo.com/profile/CashmanAssoc
END:VEVENT
END:VCALENDAR
