BEGIN:VCALENDAR
PRODID:NingEventWidget-v1
VERSION:2.0
METHOD:PUBLISH
BEGIN:VEVENT
UID:4320450:Event:39118
DTSTAMP:20260425T123739Z
SUMMARY:Spring Garden Indoor Vintage Flea Market
DESCRIPTION:Every 1st & 3rd Saturdays November thru March: 36,000 Squ
 are Foot Indoor Heated Facility and At The SE Corner Of 9th & Spring G
 arden Streets 8AM til 4PM. Free On Site Parking, Free Admission, Food 
 Court, Handicap Accessible, ATM On Premises. \nMore Than 75 Vendors F
 eaturing Antique Furniture, Collectibles, Vintage Jewelry, Glassware, 
 Pottery, Primitives, Art Work and Much More!\n\nFor more information v
 isit http://phillytodo.com/events/spring-garden-indoor-vintage-flea-ma
 rket-9
DTSTART:20150307T130000Z
DTEND:20150307T210000Z
CATEGORIES:indoor, vintage, flea, market
LOCATION:Former Fed Ex Service Center
WEBSITE:http://www.PhilaFleaMarkets.org
URL:http://www.PhilaFleaMarkets.org
CONTACT:215 - 625 - 3532
ORGANIZER;CN="Phila Flea Markets":http://phillytodo.com/profile/PhilaF
 leaMarkets
ATTACH;FMTTYPE="image/jpeg":http://storage.ning.com/topology/rest/1.0/
 file/get/3054980462?profile=original
ATTENDEE;ROLE=REQ-PARTICIPANT;PARTSTAT=ACCEPTED;RSVP=TRUE;CN="Phila Fl
 ea Markets":http://phillytodo.com/profile/PhilaFleaMarkets
END:VEVENT
END:VCALENDAR
