BEGIN:VCALENDAR
PRODID:NingEventWidget-v1
VERSION:2.0
METHOD:PUBLISH
BEGIN:VEVENT
UID:4320450:Event:35419
DTSTAMP:20260425T144550Z
SUMMARY:Spring Garden Indoor Heated Vintage Flea Market
DESCRIPTION:WHENThis Saturday, January 4th, 2014WHERE820 Spring Garden
  StPhiladelphia, PA 19123ABOUTThis Sat, Jan 4th / 8AM til 4PM But Earl
 y Birds Are Welcome!Former Fed Ex Warehouse - 820 Spring Garden Street
 , Phila, PA 19123Corner of 9th & Spring GardenMore Than 75 Vendors Fea
 turing Antiques, Collectibles, Vintage Furniture, Jewelry, Vintage Clo
 thing, Pottery, Great Food & Much More!Free Parking, Free Admission, A
 TM, Food Court, Handicap Accessiblewww.PhilaFleaMarkets.orgAdd Your E-
 Mail Address To Our Mailing List To Receive Reminders The Day Before E
 ach MarketBe Sure To \"LIKE\" Us On FaceBook At: Phila Flea Markets\n\
 nFor more information visit http://phillytodo.com/events/spring-garden
 -indoor-heated-vintage-flea-market
DTSTART:20140104T130000Z
DTEND:20140104T210000Z
CATEGORIES:vintage, flea, market
LOCATION:Former Fed Ex Service Center
WEBSITE:http://www.PhilaFleaMarkets.org
URL:http://www.PhilaFleaMarkets.org
CONTACT:215 - 625 - 3532
ORGANIZER;CN="Phila Flea Markets":http://phillytodo.com/profile/PhilaF
 leaMarkets
ATTACH;FMTTYPE="image/jpeg":http://storage.ning.com/topology/rest/1.0/
 file/get/3054959341?profile=original
ATTENDEE;ROLE=REQ-PARTICIPANT;PARTSTAT=ACCEPTED;RSVP=TRUE;CN="Phila Fl
 ea Markets":http://phillytodo.com/profile/PhilaFleaMarkets
END:VEVENT
END:VCALENDAR
