BEGIN:VCALENDAR
PRODID:NingEventWidget-v1
VERSION:2.0
METHOD:PUBLISH
BEGIN:VEVENT
UID:4320450:Event:35524
DTSTAMP:20260425T193317Z
SUMMARY:Spring Garden Indoor Heated Vintage Flea Market
DESCRIPTION:More Than 75 Vendors Featuring Antiques, Collectibles, Vin
 tage Furniture, Jewelry, Vintage Clothing, Pottery, Great Food & Much 
 More!Free Parking, Free Admission, ATM, Food Court, Handicap Accessibl
 ewww.PhilaFleaMarkets.orgAdd Your E-Mail Address To Our Mailing List T
 o Receive Reminders The Day Before Each MarketBe Sure To \"LIKE\" Us O
 n FaceBook At: Phila Flea Markets\n\nFor more information visit http:/
 /phillytodo.com/events/spring-garden-indoor-heated-vintage-flea-market
 -2
DTSTART:20140201T130000Z
DTEND:20140201T210000Z
CATEGORIES:flea, market
LOCATION:Former Fed Ex Service Center
WEBSITE:http://www.PhilaFleaMarkets.org
URL:http://www.PhilaFleaMarkets.org
CONTACT:215 - 625 - 3532
ORGANIZER;CN="Phila Flea Markets":http://phillytodo.com/profile/PhilaF
 leaMarkets
ATTACH;FMTTYPE="image/jpeg":http://storage.ning.com/topology/rest/1.0/
 file/get/3054958281?profile=original
ATTENDEE;ROLE=REQ-PARTICIPANT;PARTSTAT=ACCEPTED;RSVP=TRUE;CN="Phila Fl
 ea Markets":http://phillytodo.com/profile/PhilaFleaMarkets
END:VEVENT
END:VCALENDAR
