BEGIN:VCALENDAR
PRODID:NingEventWidget-v1
VERSION:2.0
METHOD:PUBLISH
BEGIN:VEVENT
UID:4320450:Event:35384
DTSTAMP:20260425T235105Z
SUMMARY:Spring Garden Indoor Heated Vintage Flea Market
DESCRIPTION: \n SPRING GARDEN INDOOR\nANTIQUE & VINTAGE FLEA MARKET\
 nCenter City's Largest Indoor Heated Vintage Marketplace\nFormer Fed-
 Ex Warehouse / 9th & Spring Garden\n8AM til 4PM - But Early Birds Welc
 ome!\nThis Sat, Jan 18th and The 1st & 3rd Sat Of Feb & March\nMore Th
 an 75 Vendors Featuring Antiques, Collectibles, Vintage Furniture, Jew
 elry, Pottery, Artwork, Great Food & Much More!\nFree Parking / Free
  Admission / ATM / Food Court / Handicap Accessible\nUse 820 Spring Ga
 rden Street, 19123 For GPS\nwww.PhilaFleaMarkets.org\n\nFor more infor
 mation visit http://phillytodo.com/events/spring-garden-indoor-heated-
 vintage-flea-market-1
DTSTART:20140118T130000Z
DTEND:20140118T210000Z
CATEGORIES:flea, market
LOCATION:Former Fed Ex Service Center
WEBSITE:http://www.PhilaFleaMarkets.org
URL:http://www.PhilaFleaMarkets.org
CONTACT:215 - 625 - 3532
ORGANIZER;CN="Phila Flea Markets":http://phillytodo.com/profile/PhilaF
 leaMarkets
ATTACH;FMTTYPE="image/jpeg":http://storage.ning.com/topology/rest/1.0/
 file/get/3054958281?profile=original
ATTENDEE;ROLE=REQ-PARTICIPANT;PARTSTAT=ACCEPTED;RSVP=TRUE;CN="Phila Fl
 ea Markets":http://phillytodo.com/profile/PhilaFleaMarkets
END:VEVENT
END:VCALENDAR
