BEGIN:VCALENDAR
PRODID:NingEventWidget-v1
VERSION:2.0
METHOD:PUBLISH
BEGIN:VEVENT
UID:4320450:Event:35830
DTSTAMP:20260425T113057Z
SUMMARY:SPRING GARDEN INDOOR HEATED ANTIQUE & VINTAGE FLEA MARKET THIS
  SAT, MARCH 1ST!
DESCRIPTION:WHENThis Saturday, March 1st, 2014WHERE820 Spring Garden S
 tPhiladelphia, PA 19123ABOUTThis Sat, March 1st/ 8AM til 4PM But Early
  Birds Are Welcome!Former Fed Ex Warehouse - 820 Spring Garden Street,
  Phila, PA 19123Corner of 9th & Spring GardenMore Than 75 Vendors Feat
 uring Antiques, Collectibles, Vintage Furniture, Jewelry, Vintage Clot
 hing, Pottery, Great Food & Much More!Free Parking, Free Admission, AT
 M, Food Court, Handicap Accessiblewww.PhilaFleaMarkets.orgAdd Your E-M
 ail Address To Our Mailing List To Receive Reminders The Day Before Ea
 ch MarketBe Sure To \"LIKE\" Us On FaceBook At: Phila Flea Markets\n\n
 For more information visit http://phillytodo.com/events/spring-garden-
 indoor-heated-antique-vintage-flea-market-this-sat
DTSTART:20140301T130000Z
DTEND:20140301T210000Z
CATEGORIES:indoor, vintage, flea, market
LOCATION:Former Fed Ex Service Center
WEBSITE:http://www.PhilaFleaMarkets.org
URL:http://www.PhilaFleaMarkets.org
CONTACT:215 - 625 - 3532
ORGANIZER;CN="Phila Flea Markets":http://phillytodo.com/profile/PhilaF
 leaMarkets
ATTACH;FMTTYPE="image/jpeg":
ATTENDEE;ROLE=REQ-PARTICIPANT;PARTSTAT=ACCEPTED;RSVP=TRUE;CN="Phila Fl
 ea Markets":http://phillytodo.com/profile/PhilaFleaMarkets
END:VEVENT
END:VCALENDAR
