BEGIN:VCALENDAR
PRODID:NingEventWidget-v1
VERSION:2.0
METHOD:PUBLISH
BEGIN:VEVENT
UID:4320450:Event:38591
DTSTAMP:20260425T161347Z
SUMMARY:Spring Garden Indoor Antique & Vintage Flea Market
DESCRIPTION:Spring Garden Indoor Antique & Vintage Flea Market\n \n1s
 t & 3rd Saturday of every month November thru March\nDates Are:\nSatur
 day's\nNov 1st & 15th,\nDec 6th & 20th,\nJan 3rd & 17th,\nFeb 7th & 21
 st,\nMarch 7th & 21st\n \n8AM til 4PM\n \nFormer Fed-Ex Service Cent
 er\n820 Spring Garden Street (9th & Spring Garden) Phila, PA 19123\n 
 \nMore Than 70 Vendors From The Tri-State Area Featuring Antique Furni
 ture, Collectibles, Vintage Jewelry, Clothing & Accessory's, Glassware
 , Pottery,\nArt Work and Much More!\n \nFree Parking / Free Admission
  / ATM / Food Court / Handicap Accessible\n \nwww.PhilaFleaMarkets.or
 g\n\nFor more information visit http://phillytodo.com/events/spring-ga
 rden-indoor-antique-vintage-flea-market-9
DTSTART:20141101T120000Z
DTEND:20141101T200000Z
CATEGORIES:vintage, flea, market
LOCATION:Former Fed Ex Service Center
WEBSITE:http://www.PhilaFleaMarkets.org
URL:http://www.PhilaFleaMarkets.org
CONTACT:215 - 625 - 3532
ORGANIZER;CN="Phila Flea Markets":http://phillytodo.com/profile/PhilaF
 leaMarkets
ATTACH;FMTTYPE="image/jpeg":http://storage.ning.com/topology/rest/1.0/
 file/get/3054980462?profile=original
ATTENDEE;ROLE=REQ-PARTICIPANT;PARTSTAT=ACCEPTED;RSVP=TRUE;CN="Phila Fl
 ea Markets":http://phillytodo.com/profile/PhilaFleaMarkets
END:VEVENT
END:VCALENDAR
