BEGIN:VCALENDAR
PRODID:NingEventWidget-v1
VERSION:2.0
METHOD:PUBLISH
BEGIN:VEVENT
UID:4320450:Event:29562
DTSTAMP:20260425T203606Z
SUMMARY:SPRING GARDEN INDOOR ANTIQUE & VINTAGE FLEA MARKET
DESCRIPTION:Add Your E-Mail Address To Our Mailing List To Receive Rem
 inders 2 Days Prior To Each Event!\nMore Than 60 Vendors Featuring Ant
 iques, Collectibles, Vintage Furniture, Jewelry, Clothing & Accessory'
 s, Glassware, Pottery & Much More!\nFree Parking / Free Admission / AT
 M / Food Court / Handicap Accessible\n8AM til 4PM\nThis Sat, Feb 23rd\
 n820 Spring Garden Street (9th & Spring Garden) Phila, PA 19123\nwww.P
 hilaFleaMarkets.org\n\nFor more information visit http://phillytodo.co
 m/events/spring-garden-indoor-antique-vintage-flea-market-6
DTSTART:20130223T230000Z
DTEND:20130224T000000Z
CATEGORIES:indoor, vintage, flea, market
LOCATION:Former Fed Ex Service Center Warehouse
WEBSITE:http://www.PhilaFleaMarkets.org
URL:http://www.PhilaFleaMarkets.org
CONTACT:215 - 625 - 3532
ORGANIZER;CN="Phila Flea Markets":http://phillytodo.com/profile/PhilaF
 leaMarkets
ATTACH;FMTTYPE="image/jpeg":http://storage.ning.com/topology/rest/1.0/
 file/get/3054958281?profile=original
ATTENDEE;ROLE=REQ-PARTICIPANT;PARTSTAT=ACCEPTED;RSVP=TRUE;CN="Phila Fl
 ea Markets":http://phillytodo.com/profile/PhilaFleaMarkets
END:VEVENT
END:VCALENDAR
