BEGIN:VCALENDAR
PRODID:NingEventWidget-v1
VERSION:2.0
METHOD:PUBLISH
BEGIN:VEVENT
UID:4320450:Event:29023
DTSTAMP:20260425T163120Z
SUMMARY:Spring Garden Indoor Antique & Vintage Flea Market
DESCRIPTION:More Than 60 Vendors Featuring Antiques, Collectibles, Vin
 tage Furniture, Jewelry, Glassware, Pottery & Much More!\nFree Parking
  / Free Admission / ATM / Food Court / Handicap Accessible\n\nFor more
  information visit http://phillytodo.com/events/spring-garden-indoor-a
 ntique-vintage-flea-market-4
DTSTART:20130105T130000Z
DTEND:20130105T210000Z
CATEGORIES:vintage, flea, market
LOCATION:Former Fed Ex Service Center
WEBSITE:http://www.PhilaFleaMarkets.org
URL:http://www.PhilaFleaMarkets.org
CONTACT:215 - 625 - FLEA (3532)
ORGANIZER;CN="Phila Flea Markets":http://phillytodo.com/profile/PhilaF
 leaMarkets
ATTACH;FMTTYPE="image/jpeg":http://storage.ning.com/topology/rest/1.0/
 file/get/3054958281?profile=original
ATTENDEE;ROLE=REQ-PARTICIPANT;PARTSTAT=ACCEPTED;RSVP=TRUE;CN="Phila Fl
 ea Markets":http://phillytodo.com/profile/PhilaFleaMarkets
END:VEVENT
END:VCALENDAR
