BEGIN:VCALENDAR
PRODID:NingEventWidget-v1
VERSION:2.0
METHOD:PUBLISH
BEGIN:VEVENT
UID:4320450:Event:28754
DTSTAMP:20260425T163035Z
SUMMARY:Spring Garden Indoor Antique & Vintage Flea Market
DESCRIPTION:More Than 50 Vendors From The Tri-State Area Featuring Ant
 iques, Collectibles, Vintage Furniture, Jewelry, Glassware, Pottery & 
 Much More!\n1st & 3rd Saturday of Every Month Now Thru March\nNext Mar
 kets Are: Saturday, Dec 1st & 15th\nFree Admission / Free Parking / AT
 M / Food Court / Handicap Accessible\n8AM til 4PM\n\nFor more informat
 ion visit http://phillytodo.com/events/spring-garden-indoor-antique-vi
 ntage-flea-market-2
DTSTART:20121201T130000Z
DTEND:20121201T210000Z
CATEGORIES:vintage, flea, market
LOCATION:Former Fed Ex Service Center
WEBSITE:http://www.PhilaFleaMarkets.org
URL:http://www.PhilaFleaMarkets.org
CONTACT:215 - 625 - 3532
ORGANIZER;CN="Phila Flea Markets":http://phillytodo.com/profile/PhilaF
 leaMarkets
ATTACH;FMTTYPE="image/jpeg":http://api.ning.com:80/files/Qpm74rsDFcmJK
 nczxRYR64v-uVhcptoYjnooAyQD2RNL*TqFWhGyp6*aSJjHKkjAk69TpIIt4a*nO14mFsZ
 1JibdhssJEKCS/Resized.jpg
ATTENDEE;ROLE=REQ-PARTICIPANT;PARTSTAT=ACCEPTED;RSVP=TRUE;CN="Phila Fl
 ea Markets":http://phillytodo.com/profile/PhilaFleaMarkets
END:VEVENT
END:VCALENDAR
