BEGIN:VCALENDAR
PRODID:NingEventWidget-v1
VERSION:2.0
METHOD:PUBLISH
BEGIN:VEVENT
UID:4320450:Event:48132
DTSTAMP:20260425T113058Z
SUMMARY:Spring Garden Indoor Antique & Vintage Flea Market
DESCRIPTION:SPRING GARDEN INDOOR ANTIQUE & VINTAGE FLEA MARKET\n1st & 
 3rd Saturday Of Every Month Dec thru March\nDec 3rd & 17th\nJan 7th &
  21st\nFeb 4th & 18th\nMarch 4th & 18th\nAntiques, Collectibles, Vinta
 ge Jewelry & Clothing, Textiles,\nHome Furnishings, Primitives, Art Wo
 rk & Much More!\nFree Parking - Free Admission - ATM - Food Court\n820
  Spring Garden Street (9th & Spring Garden)\nPhiladelphia, PA 19123\n8
 AM  til  4PM\n215 - 625 - FLEA (3532)\nwww.PhilaFleaMarkets.org\n\nF
 or more information visit http://phillytodo.com/events/spring-garden-i
 ndoor-antique-vintage-flea-market-13
DTSTART:20161203T130000Z
DTEND:20170318T200000Z
CATEGORIES:indoor, antique, "&", vintage, market
LOCATION:Former Fed Ex Service Center
WEBSITE:http://www.PhilaFleaMarkets.org
URL:http://www.PhilaFleaMarkets.org
CONTACT:215 - 625 - 3532
ORGANIZER;CN="Phila Flea Markets":http://phillytodo.com/profile/PhilaF
 leaMarkets
ATTACH;FMTTYPE="image/jpeg":http://storage.ning.com/topology/rest/1.0/
 file/get/3055001250?profile=original
ATTENDEE;ROLE=REQ-PARTICIPANT;PARTSTAT=ACCEPTED;RSVP=TRUE;CN="Phila Fl
 ea Markets":http://phillytodo.com/profile/PhilaFleaMarkets
END:VEVENT
END:VCALENDAR
