BEGIN:VCALENDAR
PRODID:NingEventWidget-v1
VERSION:2.0
METHOD:PUBLISH
BEGIN:VEVENT
UID:4320450:Event:43911
DTSTAMP:20260425T113057Z
SUMMARY:Spring Garden Indoor Antique & Vintage Flea Market
DESCRIPTION:More Than 100 Vendors Featuring Antiques, Collectibles, Fu
 rniture, Vintage Jewelry, Clothing & Accessories, Pottery, Primitives,
  Great Food and Much More!\nIndoors and Heated at 820 Spring Garden St
 reet, (9th & Spring Garden) Phila, PA 19123\nFree Parking, Free Admiss
 ion, ATM, Food Court, Handicap Accessible\nEvery Saturday Now thru Mar
 ch 12th (Except Feb 13th) 8AM til 4PM\nMore Info: www.PhilaFleaMarkets
 .org\n\nFor more information visit http://phillytodo.com/events/spring
 -garden-indoor-antique-vintage-flea-market-12
DTSTART:20160211T130000Z
DTEND:20160312T210000Z
CATEGORIES:vintage, flea, market
LOCATION:Former Fed Ex Service Center
WEBSITE:http://www.PhilaFleaMarkets.org
URL:http://www.PhilaFleaMarkets.org
CONTACT:215 - 625 - 3532
ORGANIZER;CN="Phila Flea Markets":http://phillytodo.com/profile/PhilaF
 leaMarkets
ATTACH;FMTTYPE="image/jpeg":http://storage.ning.com/topology/rest/1.0/
 file/get/3054993755?profile=original
ATTENDEE;ROLE=REQ-PARTICIPANT;PARTSTAT=ACCEPTED;RSVP=TRUE;CN="Phila Fl
 ea Markets":http://phillytodo.com/profile/PhilaFleaMarkets
END:VEVENT
END:VCALENDAR
