BEGIN:VCALENDAR
PRODID:NingEventWidget-v1
VERSION:2.0
METHOD:PUBLISH
BEGIN:VEVENT
UID:4320450:Event:43118
DTSTAMP:20260425T131005Z
SUMMARY:Spring Garden Indoor Antique & Vintage Flea Market
DESCRIPTION:GRAND RE-OPENING OF THE SPRING GARDEN INDOOR ANTIQUE & VIN
 TAGE FLEA MARKET Now In Our Sixth Season Saturday, Nov 7th 8AM til 4PM
  But Early Birds Are Welcome!\n820 Spring Garden Street (9th & Spring 
 Garden) Vendors Featuring Antique Furniture, Vintage Jewelry, Clothing
  & Accessories, Pottery, Art Work, Primitives, Lighting, Industrial an
 d Much More! Free Parking / Free Admission / ATM / Food Court / Heated
  1st & 3rd Saturday of Nov & Dec Every Saturday Jan thru March www.Phi
 laFleaMarkets.org\n\nFor more information visit http://phillytodo.com/
 events/spring-garden-indoor-antique-vintage-flea-market-10
DTSTART:20151107T130000Z
DTEND:20160319T200000Z
CATEGORIES:indoor, vintage, flea, market
LOCATION:Former Fed Ex Service Center
WEBSITE:http://www.PhilaFleaMarkets.org
URL:http://www.PhilaFleaMarkets.org
CONTACT:215 - 625 - 3532
ORGANIZER;CN="Phila Flea Markets":http://phillytodo.com/profile/PhilaF
 leaMarkets
ATTACH;FMTTYPE="image/jpeg":http://storage.ning.com/topology/rest/1.0/
 file/get/3054995310?profile=original
ATTENDEE;ROLE=REQ-PARTICIPANT;PARTSTAT=ACCEPTED;RSVP=TRUE;CN="Phila Fl
 ea Markets":http://phillytodo.com/profile/PhilaFleaMarkets
END:VEVENT
END:VCALENDAR
