BEGIN:VCALENDAR
PRODID:NingEventWidget-v1
VERSION:2.0
METHOD:PUBLISH
BEGIN:VEVENT
UID:4320450:Event:28745
DTSTAMP:20260425T163118Z
SUMMARY:Spring Garden Indoor Antique & Vintage Flea Market
DESCRIPTION:1st & 3rd Saturday of Every Month Now Thru March\n820 Spri
 ng Garden Street (9th & Spring Garden) 19123\n8AM til 4PM But Early Bi
 rds Are Welcome!\nMore Than 50 Vendors From The Tri-State Area Featurn
 ing Antiques, Collectibles, Vintage Furniture, Jewelry, Clothing & Acc
 essory's, Glassware, Pottery & Much More!\nFree Parking / Free Admissi
 on / ATM / Food Court / Handicap Accessible\nMore Info: 215 - 625 - FK
 EA (3532)\nFor Our Entire Flea Market Schedule Log Onto: www.PhilaFlea
 Markets.org\n\nFor more information visit http://phillytodo.com/events
 /spring-garden-indoor-antique-vintage-flea-market-1
DTSTART:20121117T130000Z
DTEND:20121117T210000Z
CATEGORIES:indoor, vintage, flea, market
LOCATION:Former Fed Ex Service Center
WEBSITE:http://www.PhilaFleaMarkets.org
URL:http://www.PhilaFleaMarkets.org
CONTACT:215 - 625 - FLEA (3532)
ORGANIZER;CN="Phila Flea Markets":http://phillytodo.com/profile/PhilaF
 leaMarkets
ATTACH;FMTTYPE="image/jpeg":
ATTENDEE;ROLE=REQ-PARTICIPANT;PARTSTAT=ACCEPTED;RSVP=TRUE;CN="Phila Fl
 ea Markets":http://phillytodo.com/profile/PhilaFleaMarkets
END:VEVENT
END:VCALENDAR
