BEGIN:VCALENDAR
PRODID:NingEventWidget-v1
VERSION:2.0
METHOD:PUBLISH
BEGIN:VEVENT
UID:4320450:Event:35725
DTSTAMP:20260425T161111Z
SUMMARY:Spring Garden Heated Indoor Vintage Flea Market
DESCRIPTION:WHENThis Saturday, Feb 15th, 2014WHERE820 Spring Garden St
 Philadelphia, PA 19123ABOUTThis Sat, Feb 15th / 8AM til 4PM But Early 
 Birds Are Welcome!Former Fed Ex Warehouse - 820 Spring Garden Street, 
 Phila, PA 19123Corner of 9th & Spring GardenMore Than 75 Vendors Featu
 ring Antiques, Collectibles, Vintage Furniture, Jewelry, Vintage Cloth
 ing, Pottery, Great Food & Much More!Free Parking, Free Admission, ATM
 , Food Court, Handicap Accessiblewww.PhilaFleaMarkets.orgAdd Your E-Ma
 il Address To Our Mailing List To Receive Reminders The Day Before Eac
 h MarketBe Sure To \"LIKE\" Us On FaceBook At: Phila Flea Markets\n\nF
 or more information visit http://phillytodo.com/events/spring-garden-h
 eated-indoor-vintage-flea-market
DTSTART:20140215T130000Z
DTEND:20140215T210000Z
CATEGORIES:vintage, flea, market
LOCATION:Former Fed Ex Service Center
WEBSITE:http://www.PhilaFleaMarkets.org
URL:http://www.PhilaFleaMarkets.org
CONTACT:215 - 625 - 3532
ORGANIZER;CN="Phila Flea Markets":http://phillytodo.com/profile/PhilaF
 leaMarkets
ATTACH;FMTTYPE="image/jpeg":http://storage.ning.com/topology/rest/1.0/
 file/get/3054958281?profile=original
ATTENDEE;ROLE=REQ-PARTICIPANT;PARTSTAT=ACCEPTED;RSVP=TRUE;CN="Phila Fl
 ea Markets":http://phillytodo.com/profile/PhilaFleaMarkets
END:VEVENT
END:VCALENDAR
