BEGIN:VCALENDAR
PRODID:NingEventWidget-v1
VERSION:2.0
METHOD:PUBLISH
BEGIN:VEVENT
UID:4320450:Event:58701
DTSTAMP:20260425T114100Z
SUMMARY:Spring Fundraiser
DESCRIPTION:CraftNOW Philadelphia invites you to enjoy exclusive acces
 s to Victor Keen’s private collection at Bethany Mission Gallery. A 
 spring menu of heavy hors d’oeuvres will be complimented by a sele
 ction of wines chosen by Moore Brothers Wine Company.\n\nFor more info
 rmation visit http://phillytodo.com/events/spring-fundraiser
DTSTART:20190514T213000Z
DTEND:20190515T003000Z
CATEGORIES:fundraiser
LOCATION:Bethany Mission Gallery
WEBSITE:http://www.craftnowphila.org/bethanymissiongallery
URL:http://www.craftnowphila.org/bethanymissiongallery
CONTACT:
ORGANIZER;CN="Bryan Chan":http://phillytodo.com/profile/BryanChan
ATTACH;FMTTYPE="image/jpeg":
ATTENDEE;ROLE=REQ-PARTICIPANT;PARTSTAT=ACCEPTED;RSVP=TRUE;CN="Bryan Ch
 an":http://phillytodo.com/profile/BryanChan
END:VEVENT
END:VCALENDAR
