BEGIN:VCALENDAR
PRODID:NingEventWidget-v1
VERSION:2.0
METHOD:PUBLISH
BEGIN:VEVENT
UID:4320450:Event:40912
DTSTAMP:20260425T125009Z
SUMMARY:Spring Fling Party
DESCRIPTION:KICKSUSA hosts this party with a live DJ, special deals 
 throughout the day, customization of Love Your Kicks tees and free gi
 veaways.\nAll giveaways and tees are while supplies last. There will a
 lso be a 4’x5’ poster of a Love Your Kicks logo for kids and custo
 mers to color while shopping.\n\nFor more information visit http://phi
 llytodo.com/events/spring-fling-party-1
DTSTART:20150613T180000Z
DTEND:20150613T230000Z
CATEGORIES:social, business
LOCATION:Ewing Store
WEBSITE:
URL:
CONTACT:
ORGANIZER;CN="Skai Blue Media":http://phillytodo.com/profile/SkaiBlueM
 edia
ATTACH;FMTTYPE="image/jpeg":
ATTENDEE;ROLE=REQ-PARTICIPANT;PARTSTAT=ACCEPTED;RSVP=TRUE;CN="Skai Blu
 e Media":http://phillytodo.com/profile/SkaiBlueMedia
END:VEVENT
END:VCALENDAR
