BEGIN:VCALENDAR
PRODID:NingEventWidget-v1
VERSION:2.0
METHOD:PUBLISH
BEGIN:VEVENT
UID:4320450:Event:49650
DTSTAMP:20260425T124846Z
SUMMARY:Spring Break Circus Camp 2017
DESCRIPTION:Philadelphia School of Circus Arts announces a brand new, 
 full-day Spring Break Circus Camp for students looking to run off to t
 he big top. Children ages seven to fourteen are invited to walk the wi
 re, take to the air and juggle their creativity from 9:00am to 3:00pm,
  between April 10-14, 2017, at PSCA's studio (5900A Greene Street). Ca
 mpers can enroll for one day or the whole week. Circus skills will be 
 taught by trained professionals on real circus equipment used by profe
 ssional artists. Campers will be taught beginner lessons in trapeze, a
 erial rope, silks, feather-balancing, scarf-juggling, plate spinning, 
 tightwire, rolling globe and acrobatics. Registration is $80 per day o
 r $375 for all five.  For more information, call 215-849-1991 or visi
 t phillycircus.com.\n\nFor more information visit http://phillytodo.co
 m/events/spring-break-circus-camp-2017
DTSTART:20170410T130000Z
DTEND:20170414T190000Z
CATEGORIES:spring, break, camp
LOCATION:Philadelphia School of Circus Arts
WEBSITE:http://phillycircus.com/camp/
URL:http://phillycircus.com/camp/
CONTACT:2158491991
ORGANIZER:Philadelphia School of Circus Arts
ATTACH;FMTTYPE="image/jpeg":http://storage.ning.com/topology/rest/1.0/
 file/get/3055003443?profile=original
ATTENDEE;ROLE=REQ-PARTICIPANT;PARTSTAT=ACCEPTED;RSVP=TRUE;CN="Aversa P
 R & Events":http://phillytodo.com/profile/KoryAversa277
END:VEVENT
END:VCALENDAR
