BEGIN:VCALENDAR
PRODID:NingEventWidget-v1
VERSION:2.0
METHOD:PUBLISH
BEGIN:VEVENT
UID:4320450:Event:35310
DTSTAMP:20260425T195353Z
SUMMARY:Spirits & Suds with Santa on East Passyunk Avenue
DESCRIPTION:Eat, drink and be merry on East Passyunk Avenue! Join Sant
 a as he gets his jolly on at 14 East Passyunk bars, pubs and restauran
 ts on Wednesday, December 11, 2013. Registration will be held at South
  Philly Bar & Grill (9th & Wharton) from 5:30pm to 7:30pm. A $5 admiss
 ion gets you $3 craft beers, $4 merry cocktails, $5 or under snacks (a
 t select locations), a Santa or Elf hat and Santa’s Sipping Stamp Ca
 rd. Collect stamps along the way for a chance to win a package of $350
  in gift certificates from the participating bars and other great priz
 es. Tickets are on sale NOW at www.visiteastpassyunk.com, must be 21+.
  All proceeds from this event will be donated to local families in nee
 d of assistance this holiday season through EPX. \n\nFor more informa
 tion visit http://phillytodo.com/events/spirits-suds-with-santa-on-eas
 t-passyunk-avenue
DTSTART:20131211T223000Z
DTEND:20131212T003000Z
CATEGORIES:fundraiser, holiday, bar, crawl
LOCATION:South Philly Bar & Grill
WEBSITE:http://www.visiteastpassyunk.com/events.htm
URL:http://www.visiteastpassyunk.com/events.htm
CONTACT:215-336-1455
ORGANIZER;CN="Aversa PR & Events":http://phillytodo.com/profile/KoryAv
 ersa277
ATTACH;FMTTYPE="image/jpeg":http://storage.ning.com/topology/rest/1.0/
 file/get/3054968204?profile=original
ATTENDEE;ROLE=REQ-PARTICIPANT;PARTSTAT=ACCEPTED;RSVP=TRUE;CN="Aversa P
 R & Events":http://phillytodo.com/profile/KoryAversa277
END:VEVENT
END:VCALENDAR
