BEGIN:VCALENDAR
PRODID:NingEventWidget-v1
VERSION:2.0
METHOD:PUBLISH
BEGIN:VEVENT
UID:4320450:Event:39037
DTSTAMP:20260425T142713Z
SUMMARY:Spirits & Suds with Santa Bar Crawl
DESCRIPTION:Santa gets his jolly on at 12 East Passyunk bars and resta
 urants during Spirits & Suds with Santa Bar Crawl on Wednesday, Decemb
 er 10, 2014. Registration starts at 5:30 pm at South Philly Bar & Gril
 l (East Passyunk and Wharton). Admission is only $5.00 and includes $3
  craft beers, $4 merry cocktails and $5 snacks, a Santa or Elf hat, an
 d a chance to win a $300.00 prize package. Age 21 and up with valid id
 entification. For info, visit www.visiteastpassyunk.com, call 215-336-
 1455 or tweet @EPassyunkAve.\n\n\nFor more information visit http://ph
 illytodo.com/events/spirits-suds-with-santa-bar-crawl-1
DTSTART:20141210T223000Z
DTEND:20141211T023000Z
CATEGORIES:pub, crawl
LOCATION:South Philly Bar & Grill
WEBSITE:http://www.visiteastpassyunk.com/events.htm
URL:http://www.visiteastpassyunk.com/events.htm
CONTACT:
ORGANIZER;CN="Aversa PR & Events":http://phillytodo.com/profile/KoryAv
 ersa277
ATTACH;FMTTYPE="image/jpeg":http://storage.ning.com/topology/rest/1.0/
 file/get/3054982120?profile=original
ATTENDEE;ROLE=REQ-PARTICIPANT;PARTSTAT=ACCEPTED;RSVP=TRUE;CN="Aversa P
 R & Events":http://phillytodo.com/profile/KoryAversa277
END:VEVENT
END:VCALENDAR
