BEGIN:VCALENDAR
PRODID:NingEventWidget-v1
VERSION:2.0
METHOD:PUBLISH
BEGIN:VEVENT
UID:4320450:Event:45036
DTSTAMP:20260425T144258Z
SUMMARY:Spirits Live! 2016
DESCRIPTION:XFINITY Live! Presents Spirits Live! - Philadelphia’s pr
 emier spirits event on Thursday, March 10th. Sip your way through 5 s
 pectacular venues tasting various tequilas, bourbons, vodka & more. Ch
 eck out our unique cocktail contests, listen to live entertainment, me
 et master distillers and mixologists for Q&A’s and much more! Exper
 ience our exclusive cocktail contests:XFINITY Live! Rum Contest: Watch
  vendors compete for the best rum cocktail. Winner will be added to XF
 INITY Live’s drink menu.XFINITY Live! Gin Contest: Watch vendors com
 pete for the best gin cocktail. Winner will be added to XFINITY Live
 s drink menu.Woodford Old Fashion Contest: features Elite craft cockt
 ail bartenders from the Philadelphia region. Three Olives Cocktail Co
 ntest: features XFINITY Live! staff. Winner decided by guest vote.Sip 
 your way through your favorite tequilas inside 1100 Social, our newest
  Mexican and Asian infused restaurant, featuring an upbeat mariachi ba
 nd. Taste multiple rums inside Broad Street Bullies - featuring the B
 arcardi Lounge serving pre batched cocktails. Start St. Paddy’s Day
  early in the Jameson Caskmate Room inside Victory Beer Hall. Enjoy a 
 large selection of irish whiskeys, paired with traditional Irish music
 . Enjoy the Brown Forman portfolio and other bourbon drinks inside PB
 R Bar & Grill.Sample over 50 Whiskeys in NBC Sports Arena.Plus - “Ma
 ke your Own Blue Coat Gin & Tonic” with various jams, and learn how 
 to use Jager as a bitter from Jager Mixologist, Willy Shine.Or experie
 nce the event as a VIP! Sip on super premium and rare spirits in our V
 IP Mezzanine. Featuring a Q&A with a Master Distiller!Spirit lovers: t
 his event is for you! Join us for the first ever, Spirits Live! at XFI
 NITY Live! - Philadelphia’s premier Spirits event. Early Bird Gener
 al Admission & VIP tickets on-sale now!\n\nFor more information visit 
 http://phillytodo.com/events/spirits-live-2016
DTSTART:20160310T220000Z
DTEND:20160311T030000Z
CATEGORIES:beer, fest
LOCATION:Xfinity Live!
WEBSITE:https://www.ticketfly.com/purchase/event/1046893
URL:https://www.ticketfly.com/purchase/event/1046893
CONTACT:
ORGANIZER;CN="UpcomingEvents.com":http://phillytodo.com/profile/Upcomi
 ngEventscom
ATTACH;FMTTYPE="image/jpeg":http://storage.ning.com/topology/rest/1.0/
 file/get/3054994886?profile=original
ATTENDEE;ROLE=REQ-PARTICIPANT;PARTSTAT=ACCEPTED;RSVP=TRUE;CN="Upcoming
 Events.com":http://phillytodo.com/profile/UpcomingEventscom
END:VEVENT
END:VCALENDAR
