BEGIN:VCALENDAR
PRODID:NingEventWidget-v1
VERSION:2.0
METHOD:PUBLISH
BEGIN:VEVENT
UID:4320450:Event:50202
DTSTAMP:20260425T161653Z
SUMMARY:Spirit of Philadelphia Yards Brews Cruise
DESCRIPTION:Start your summer off right on June 22nd with the return o
 f the Yards Brews Cruise! Spirit of Philadelphia teams up with Yards B
 rewing Company on select Thursdays from June through October for a bou
 ntiful dinner buffet, open beer bar, and some friendly brew Q & A. Han
 g out on the water with Yards’ beer experts and WMMR’s Jacky Bam B
 am and Marisa Magnatta, and enjoy vibrant entertainment and breathtaki
 ng skyline views aboard Spirit of Philadelphia. Tickets start at $51.9
 0. All guests must be 21 or older with ID.\n\nFor more information vis
 it http://phillytodo.com/events/spirit-of-philadelphia-yards-brews-cru
 ise
DTSTART:20170622T223000Z
DTEND:20170623T013000Z
CATEGORIES:spirit, of, philadelphia
LOCATION:Spirit of Philadelphia
WEBSITE:https://www.spiritcruises.com/philadelphia/cruises/specialty/b
 eef-and-beer?loc=feat&2
URL:https://www.spiritcruises.com/philadelphia/cruises/specialty/beef-
 and-beer?loc=feat&2
CONTACT:2153207540
ORGANIZER:Jill Calhoun
ATTACH;FMTTYPE="image/jpeg":http://storage.ning.com/topology/rest/1.0/
 file/get/3055003826?profile=original
ATTENDEE;ROLE=REQ-PARTICIPANT;PARTSTAT=ACCEPTED;RSVP=TRUE;CN="Bryan Ch
 an":http://phillytodo.com/profile/BryanChan
END:VEVENT
END:VCALENDAR
