BEGIN:VCALENDAR
PRODID:NingEventWidget-v1
VERSION:2.0
METHOD:PUBLISH
BEGIN:VEVENT
UID:4320450:Event:51935
DTSTAMP:20260425T143347Z
SUMMARY:Spirit of Philadelphia Yards Brews Cruise
DESCRIPTION:The September Yards Brews Cruise is back for a Big Hair, B
 ig Beer theme! Climb aboard Spirit of Philadelphia on September 21st f
 or A Totally Rad 90’s Party, hosted by WMMR’s Marisa Magnatta, fea
 turing Yards’ Cape of Good Hope. Enjoy dessert pairings from Capofit
 to while you dance along to your favorite 90’s hits and enjoy one-of
 -a-kind skyline views. Tickets start at $51.90. All guests must be 21 
 or older with ID.\n\nFor more information visit http://phillytodo.com/
 events/spirit-of-philadelphia-yards-brews-cruise-3
DTSTART:20170921T223000Z
DTEND:20170922T013000Z
CATEGORIES:beer, tasting, outdoor, yards
LOCATION:Spirit of Philadelphia
WEBSITE:https://www.spiritcruises.com/philadelphia/cruises/specialty/b
 eef-and-beer?loc=feat&amp;3
URL:https://www.spiritcruises.com/philadelphia/cruises/specialty/beef-
 and-beer?loc=feat&amp;3
CONTACT:
ORGANIZER;CN="Bryan Chan":http://phillytodo.com/profile/BryanChan
ATTACH;FMTTYPE="image/jpeg":http://storage.ning.com/topology/rest/1.0/
 file/get/3055004451?profile=original
ATTENDEE;ROLE=REQ-PARTICIPANT;PARTSTAT=ACCEPTED;RSVP=TRUE;CN="Bryan Ch
 an":http://phillytodo.com/profile/BryanChan
END:VEVENT
END:VCALENDAR
