BEGIN:VCALENDAR
PRODID:NingEventWidget-v1
VERSION:2.0
METHOD:PUBLISH
BEGIN:VEVENT
UID:4320450:Event:51902
DTSTAMP:20260425T131205Z
SUMMARY:Spirit of Philadelphia Yards Brews Cruise
DESCRIPTION:Mark your calendar for the Pretty in PYNK Yards Brews Crui
 se! On August 17th, Spirit of Philadelphia will be decked out for an 8
 0’s Prom On the Water featuring Yards’ PYNK seasonal beer. Dance t
 he night away with Yards’ beer experts and WMMR’s Marisa Magnatta,
  and enjoy dessert pairings from Franklin Fountain. Tickets start at $
 51.90. All guests must be 21 or older with ID.\n\nFor more information
  visit http://phillytodo.com/events/spirit-of-philadelphia-yards-brews
 -cruise-2
DTSTART:20170817T223000Z
DTEND:20170818T013000Z
CATEGORIES:outdoor, beer, tasting, buffet, live, entertainment
LOCATION:Spirit of Philadelphia
WEBSITE:https://www.spiritcruises.com/philadelphia/cruises/specialty/b
 eef-and-beer?loc=feat&amp;3
URL:https://www.spiritcruises.com/philadelphia/cruises/specialty/beef-
 and-beer?loc=feat&amp;3
CONTACT:866-455-3866
ORGANIZER;CN="Bryan Chan":http://phillytodo.com/profile/BryanChan
ATTACH;FMTTYPE="image/jpeg":http://storage.ning.com/topology/rest/1.0/
 file/get/3055004121?profile=original
ATTENDEE;ROLE=REQ-PARTICIPANT;PARTSTAT=ACCEPTED;RSVP=TRUE;CN="Bryan Ch
 an":http://phillytodo.com/profile/BryanChan
END:VEVENT
END:VCALENDAR
