BEGIN:VCALENDAR
PRODID:NingEventWidget-v1
VERSION:2.0
METHOD:PUBLISH
BEGIN:VEVENT
UID:4320450:Event:50508
DTSTAMP:20260425T131221Z
SUMMARY:Spirit of Philadelphia Yards Brews Cruise
DESCRIPTION:Seasons Greetings! Come celebrate Christmas in July aboard
  Spirit of Philadelphia featuring Yards’ Tavern Spruce with dessert 
 pairings from Capofitto, and take part in some friendly brew Q & A. Ha
 ng out on the water with Yards’ beer experts and WMMR’s Jacky Bam 
 Bam, and enjoy vibrant entertainment and breathtaking skyline views ab
 oard Spirit of Philadelphia. Tickets start at $51.90. All guests must 
 be 21 or older with ID.\n\nFor more information visit http://phillytod
 o.com/events/spirit-of-philadelphia-yards-brews-cruise-1
DTSTART:20170713T223000Z
DTEND:20170714T013000Z
CATEGORIES:beer, tasting
LOCATION:Spirit of Philadelphia
WEBSITE:https://www.spiritcruises.com/philadelphia/cruises/specialty/b
 eef-and-beer
URL:https://www.spiritcruises.com/philadelphia/cruises/specialty/beef-
 and-beer
CONTACT:
ORGANIZER;CN="Bryan Chan":http://phillytodo.com/profile/BryanChan
ATTACH;FMTTYPE="image/jpeg":http://storage.ning.com/topology/rest/1.0/
 file/get/3055003826?profile=original
ATTENDEE;ROLE=REQ-PARTICIPANT;PARTSTAT=ACCEPTED;RSVP=TRUE;CN="Bryan Ch
 an":http://phillytodo.com/profile/BryanChan
END:VEVENT
END:VCALENDAR
