BEGIN:VCALENDAR
PRODID:NingEventWidget-v1
VERSION:2.0
METHOD:PUBLISH
BEGIN:VEVENT
UID:4320450:Event:54907
DTSTAMP:20260425T131221Z
SUMMARY:Spirit of Philadelphia Valentine's Day Lunch
DESCRIPTION::  Valentine’s Day yet is waiting on the water, when yo
 u and your sweetheart join Spirit of Philadelphia for lunch and a 2 ho
 ur cruise along the Delaware River. After a romantic meal for two, tak
 e your Valentine for a spin on the dance floor where a live DJ will be
  spinning romantic tunes. Stunning skyline views, inspired cuisine and
  an experience unlike any other all make for the perfect celebration o
 f love. Tickets start at $45.90. Book tickets here: https://www.spiri
 tcruises.com/philadelphia/search?timeOfDay=DT&metro=Philadelphia&start
 Date=02%2F09%2F2018&endDate=02%2F17%2F2018&paxSize=1-19&brands=Spirit&
 promoCode=VAL\n\nFor more information visit http://phillytodo.com/even
 ts/spirit-of-philadelphia-valentine-s-day-lunch
DTSTART:20180211T173000Z
DTEND:20180211T200000Z
CATEGORIES:"valentine's", lunch
LOCATION:Penn's Landing
WEBSITE:https://www.spiritcruises.com/philadelphia/cruises/holiday/val
 entines-day-cruises
URL:https://www.spiritcruises.com/philadelphia/cruises/holiday/valenti
 nes-day-cruises
CONTACT:
ORGANIZER;CN="Bryan Chan":http://phillytodo.com/profile/BryanChan
ATTACH;FMTTYPE="image/jpeg":http://storage.ning.com/topology/rest/1.0/
 file/get/3055011324?profile=original
ATTENDEE;ROLE=REQ-PARTICIPANT;PARTSTAT=ACCEPTED;RSVP=TRUE;CN="Bryan Ch
 an":http://phillytodo.com/profile/BryanChan
END:VEVENT
END:VCALENDAR
