BEGIN:VCALENDAR
PRODID:NingEventWidget-v1
VERSION:2.0
METHOD:PUBLISH
BEGIN:VEVENT
UID:4320450:Event:54915
DTSTAMP:20260425T113220Z
SUMMARY:Spirit of Philadelphia Valentine's Day Dinner
DESCRIPTION:Your most memorable Valentine’s Day yet is waiting on th
 e water, when you and your sweetheart join Spirit of Philadelphia for 
 dinner and a 2 – 3 hour cruise along the Delaware River. After a rom
 antic meal for two, take your Valentine for a spin on the dance floor 
 where a live DJ will be spinning romantic tunes. Stunning skyline view
 s, inspired cuisine and an experience unlike any other all make for th
 e perfect celebration of love. Tickets start at $79.90. Book your cru
 ise here: https://www.spiritcruises.com/philadelphia/search?timeOfDay=
 DN&metro=Philadelphia&startDate=02%2F09%2F2018&endDate=02%2F17%2F2018&
 paxSize=1-19&brands=Spirit&promoCode=VAL\n\nFor more information visit
  http://phillytodo.com/events/spirit-of-philadelphia-valentine-s-day-d
 inner
DTSTART:20180214T233000Z
DTEND:20180215T023000Z
CATEGORIES:"valentine's", dinner
LOCATION:Spirit of Philadelphia
WEBSITE:https://www.spiritcruises.com/philadelphia/cruises/holiday/val
 entines-day-cruises
URL:https://www.spiritcruises.com/philadelphia/cruises/holiday/valenti
 nes-day-cruises
CONTACT:215-923-1419
ORGANIZER;CN="Bryan Chan":http://phillytodo.com/profile/BryanChan
ATTACH;FMTTYPE="image/jpeg":http://storage.ning.com/topology/rest/1.0/
 file/get/3055011324?profile=original
ATTENDEE;ROLE=REQ-PARTICIPANT;PARTSTAT=ACCEPTED;RSVP=TRUE;CN="Bryan Ch
 an":http://phillytodo.com/profile/BryanChan
END:VEVENT
END:VCALENDAR
