BEGIN:VCALENDAR
PRODID:NingEventWidget-v1
VERSION:2.0
METHOD:PUBLISH
BEGIN:VEVENT
UID:4320450:Event:52602
DTSTAMP:20260425T145032Z
SUMMARY:Spirit of Philadelphia Thanksgiving Dinner Cruise
DESCRIPTION:Enjoy a delicious Thanksgiving dinner feast featuring a ma
 shed potato bar, green bean casserole, baked macaroni & cheese, roaste
 d tom turkey, hickory smoked ham, rustic herb stuffing, and much more 
 while viewing the beautiful Philadelphia skyline views as you sail alo
 ng the Delaware River.\n\nFor more information visit http://phillytodo
 .com/events/spirit-of-philadelphia-thanksgiving-dinner-cruise
DTSTART:20171124T000000Z
DTEND:20171124T023000Z
CATEGORIES:thanksgiving, dinner
LOCATION:Spirit of Philadelphia
WEBSITE:https://www.spiritcruises.com/philadelphia/cruises/holiday/tha
 nksgiving
URL:https://www.spiritcruises.com/philadelphia/cruises/holiday/thanksg
 iving
CONTACT:
ORGANIZER:
ATTACH;FMTTYPE="image/jpeg":http://storage.ning.com/topology/rest/1.0/
 file/get/3055010460?profile=original
ATTENDEE;ROLE=REQ-PARTICIPANT;PARTSTAT=ACCEPTED;RSVP=TRUE;CN="Bryan Ch
 an":http://phillytodo.com/profile/BryanChan
END:VEVENT
END:VCALENDAR
