BEGIN:VCALENDAR
PRODID:NingEventWidget-v1
VERSION:2.0
METHOD:PUBLISH
BEGIN:VEVENT
UID:4320450:Event:53317
DTSTAMP:20260425T131355Z
SUMMARY:Spirit of Philadelphia Silver Bells and Santa Lunch Cruises
DESCRIPTION:Get into the holiday spirit with a lunch cruise from the S
 pirit of Philadelphia. Cruise the Delaware River for two hours while y
 ou enjoy beautiful waterfront views of Philly, a delicious menu, and a
 n afternoon of fun. Spirit Cruises are all carefully climate controlle
 d, so you don’t have to worry about getting chilly! On December 9th 
 and 10th Santa will be cruising on Spirit with you, ready to take phot
 os and hear all about Christmas wishes. Tickets start at $36.90 (not i
 ncluding alcohol) and can be purchased online. Cruises board at 11:30 
 am and depart from Penn’s Landing. \n\nFor more information visit h
 ttp://phillytodo.com/events/spirit-of-philadelphia-silver-bells-and-sa
 nta-lunch-cruises
DTSTART:20171201T163000Z
DTEND:20171230T190000Z
CATEGORIES:lunch, cruise
LOCATION:Penn's Landing
WEBSITE:
URL:
CONTACT:
ORGANIZER;CN="Bryan Chan":http://phillytodo.com/profile/BryanChan
ATTACH;FMTTYPE="image/jpeg":http://storage.ning.com/topology/rest/1.0/
 file/get/3055009785?profile=original
ATTENDEE;ROLE=REQ-PARTICIPANT;PARTSTAT=ACCEPTED;RSVP=TRUE;CN="Bryan Ch
 an":http://phillytodo.com/profile/BryanChan
END:VEVENT
END:VCALENDAR
