BEGIN:VCALENDAR
PRODID:NingEventWidget-v1
VERSION:2.0
METHOD:PUBLISH
BEGIN:VEVENT
UID:4320450:Event:56419
DTSTAMP:20260425T131307Z
SUMMARY:Spirit of Philadelphia's Early Thanksgiving Dinner Cruise
DESCRIPTION:Experience a Thanksgiving feast and picturesque views with
  Spirit of Philadelphia’s Early Thanksgiving Dinner Cruise. Enjoy DJ
  entertainment, dancing, interactive games, and Thanksgiving delights 
 while relaxing with your loved ones on a 2-hour ride on the Delaware R
 iver.\n\nFor more information visit http://phillytodo.com/events/spiri
 t-of-philadelphia-s-early-thanksgiving-dinner-cruise
DTSTART:20181122T193000Z
DTEND:20181122T220000Z
CATEGORIES:holiday, cruise
LOCATION:Spirit of Philadelphia
WEBSITE:https://www.spiritcruises.com/philadelphia/cruises/holiday/tha
 nksgiving
URL:https://www.spiritcruises.com/philadelphia/cruises/holiday/thanksg
 iving
CONTACT:
ORGANIZER:Savannah Wilson
ATTACH;FMTTYPE="image/jpeg":
ATTENDEE;ROLE=REQ-PARTICIPANT;PARTSTAT=ACCEPTED;RSVP=TRUE;CN="Bryan Ch
 an":http://phillytodo.com/profile/BryanChan
END:VEVENT
END:VCALENDAR
