BEGIN:VCALENDAR
PRODID:NingEventWidget-v1
VERSION:2.0
METHOD:PUBLISH
BEGIN:VEVENT
UID:4320450:Event:49731
DTSTAMP:20260425T152114Z
SUMMARY:Spirit of Philadelphia Mother's Day Cruises
DESCRIPTION:Treat Mom to a relaxing day on the water and celebrate Mot
 her’s Day aboard the Spirit of Philadelphia. On Sunday, May 14, show
  Mom how much her hard work is appreciated with a memorable brunch or 
 dinner cruise along the Delaware River, featuring delicious buffets of
  freshly prepared cuisine, musical entertainment provided by a DJ and 
 interactive games for the whole family to enjoy. Tickets for Mother’
 s Day Cruises begin at $59.90 for adults ($35.95 for children ages 3-1
 2) and include a complimentary flower as a gift to every mother cruisi
 ng. Reserve your spot by April 30th and save 20% by using promo code M
 OM20 at checkout. Spend Mom’s special day as a family and discover u
 nique sights of the city found only on the Spirit of Philadelphia.\n\n
 Cruise Time(s): 10 a.m. to 12 p.m. (Brunch), 2:30 p.m. to 4:30 p.m. (
 Early Dinner), 7 p.m. to 9:30 p.m. (Dinner)\n\nFor more information vi
 sit http://phillytodo.com/events/spirit-of-philadelphia-mother-s-day-c
 ruises
DTSTART:20170514T040000Z
DTEND:20170515T035900Z
CATEGORIES:entertainment, cruise
LOCATION:Penn's Landing
WEBSITE:https://www.spiritcruises.com/philadelphia/cruises/holiday/mot
 hers-day
URL:https://www.spiritcruises.com/philadelphia/cruises/holiday/mothers
 -day
CONTACT:866-455-3866
ORGANIZER:Entertainment Cruises
ATTACH;FMTTYPE="image/jpeg":http://storage.ning.com/topology/rest/1.0/
 file/get/3055003177?profile=original
ATTENDEE;ROLE=REQ-PARTICIPANT;PARTSTAT=ACCEPTED;RSVP=TRUE;CN="Bryan Ch
 an":http://phillytodo.com/profile/BryanChan
END:VEVENT
END:VCALENDAR
