BEGIN:VCALENDAR
PRODID:NingEventWidget-v1
VERSION:2.0
METHOD:PUBLISH
BEGIN:VEVENT
UID:4320450:Event:51774
DTSTAMP:20260425T145036Z
SUMMARY:Spirit of Philadelphia Monster Mash Ball
DESCRIPTION:Join WMMR’s Jacky Bam Bam and Spirit of Philadelphia for
  the spookiest Halloween party on the water! Rock your scariest Hall
 oween costume (for a chance to win awesome prizes!) and set sail for 
 a night of ghoulish fun, DJ and dancing, a moonlight buffet menu, and 
 unbeatable nighttime views of Philadelphia – all hosted by the king 
 of Halloween, Jacky Bam Bam. Tickets start at $39.90. All guests must 
 be 21 or older with valid ID.\n\nFor more information visit http://phi
 llytodo.com/events/spirit-of-philadelphia-monster-mash-ball
DTSTART:20171029T033000Z
DTEND:20171029T060000Z
CATEGORIES:halloween, boat, party
LOCATION:Spirit of Philadelphia
WEBSITE:https://www.spiritcruises.com/philadelphia/cruises/holiday/mon
 ster-mash-ball
URL:https://www.spiritcruises.com/philadelphia/cruises/holiday/monster
 -mash-ball
CONTACT:
ORGANIZER:
ATTACH;FMTTYPE="image/jpeg":http://storage.ning.com/topology/rest/1.0/
 file/get/3055005650?profile=original
ATTENDEE;ROLE=REQ-PARTICIPANT;PARTSTAT=ACCEPTED;RSVP=TRUE;CN="Bryan Ch
 an":http://phillytodo.com/profile/BryanChan
END:VEVENT
END:VCALENDAR
