BEGIN:VCALENDAR
PRODID:NingEventWidget-v1
VERSION:2.0
METHOD:PUBLISH
BEGIN:VEVENT
UID:4320450:Event:50515
DTSTAMP:20260425T145036Z
SUMMARY:Spirit of Philadelphia July 4th Fireworks Dinner Cruises
DESCRIPTION:Celebrate Independence Day the true patriotic way with one
  of Spirit of Philadelphia’s Fireworks Dinner Cruises! Savor tasty b
 uffet menus, play interactive games like giant Jenga and tabletop shuf
 fleboard, and dance along to music from the DJ. Climb aboard on June 3
 0th, July 1st, or July 4th, and be treated to panoramic skyline views 
 and a front row seat for the fireworks display. Make your 4th of July 
 weekend one to remember with Spirit of Philadelphia! Tickets start at 
 $79.90 for adults and $59.95 for kids.\n\n\nFor more information visit
  http://phillytodo.com/events/spirit-of-philadelphia-july-4th-firework
 s-dinner-cruises
DTSTART:20170630T223000Z
DTEND:20170701T020000Z
CATEGORIES:holiday
LOCATION:Spirit of Philadelphia
WEBSITE:https://www.spiritcruises.com/philadelphia/cruises/holiday/ind
 ependence-day
URL:https://www.spiritcruises.com/philadelphia/cruises/holiday/indepen
 dence-day
CONTACT:
ORGANIZER;CN="Bryan Chan":http://phillytodo.com/profile/BryanChan
ATTACH;FMTTYPE="image/jpeg":http://storage.ning.com/topology/rest/1.0/
 file/get/3055004062?profile=original
ATTENDEE;ROLE=REQ-PARTICIPANT;PARTSTAT=ACCEPTED;RSVP=TRUE;CN="Bryan Ch
 an":http://phillytodo.com/profile/BryanChan
END:VEVENT
END:VCALENDAR
