BEGIN:VCALENDAR
PRODID:NingEventWidget-v1
VERSION:2.0
METHOD:PUBLISH
BEGIN:VEVENT
UID:4320450:Event:49468
DTSTAMP:20260425T143244Z
SUMMARY:Spirit of Philadelphia Easter Weekend Cruises
DESCRIPTION:Hop aboard the Spirit of Philadelphia to celebrate Easter 
 on the water. On Sunday, April 16, savor the tastes of spring with a b
 runch or dinner cruise featuring seasonally inspired buffets, a live D
 J, and family-friendly entertainment, all paired with one-of-a-kind vi
 ews of the Philadelphia skyline.\nTickets for these special Easter cru
 ises begin at $54.90 for adults ($32.95 for children ages 3-12) and in
 clude an appearance by the Easter Bunny himself! Reserve your spot in 
 advance and spend the holiday cruising the Delaware River.\n\nFor more
  information visit http://phillytodo.com/events/spirit-of-philadelphia
 -easter-weekend-cruises-1
DTSTART:20170416T213000Z
DTEND:20170417T003000Z
CATEGORIES:easter, weekend, cruises, brunch, dinner
LOCATION:Delaware River
WEBSITE:https://www.spiritcruises.com/philadelphia/cruises/holiday/eas
 ter
URL:https://www.spiritcruises.com/philadelphia/cruises/holiday/easter
CONTACT:
ORGANIZER:Spirit of Philadelphia
ATTACH;FMTTYPE="image/jpeg":http://storage.ning.com/topology/rest/1.0/
 file/get/3055002897?profile=original
ATTENDEE;ROLE=REQ-PARTICIPANT;PARTSTAT=ACCEPTED;RSVP=TRUE;CN="Bryan Ch
 an":http://phillytodo.com/profile/BryanChan
END:VEVENT
END:VCALENDAR
