BEGIN:VCALENDAR
PRODID:NingEventWidget-v1
VERSION:2.0
METHOD:PUBLISH
BEGIN:VEVENT
UID:4320450:Event:55002
DTSTAMP:20260425T130951Z
SUMMARY:Spirit of Philadelphia Easter Cruises
DESCRIPTION:This Easter, spend the day with family, and let Spirit of 
 Philadelphia do the hosting. Choose between a lunch or dinner cruise c
 ruise of the Delaware River. Take in breathtaking views of Philly, and
  enjoy a delicious buffet-style lunch. Hop on over to the dance floor 
 where a live DJ will be spinning your favorite tunes, or play interact
 ive games like life-sized jenga and tabletop shuffleboard. The Easter 
 Bunny himself will also be aboard both cruises, and he loves to take p
 ictures with kids and families! Tickets start at $54.90 for adults, an
 d $32.95 for kids. Reservations may be made by calling 215-923-1419 or
  visiting https://www.spiritcruises.com/philadelphia/cruises/holiday/e
 aster.\n\nFor more information visit http://phillytodo.com/events/spir
 it-of-philadelphia-easter-cruises
DTSTART:20180401T163000Z
DTEND:20180402T003000Z
CATEGORIES:easter, celebration
LOCATION:Spirit of Philadelphia
WEBSITE:
URL:
CONTACT:
ORGANIZER;CN="Bryan Chan":http://phillytodo.com/profile/BryanChan
ATTACH;FMTTYPE="image/jpeg":http://storage.ning.com/topology/rest/1.0/
 file/get/3055013446?profile=original
ATTENDEE;ROLE=REQ-PARTICIPANT;PARTSTAT=ACCEPTED;RSVP=TRUE;CN="Bryan Ch
 an":http://phillytodo.com/profile/BryanChan
END:VEVENT
END:VCALENDAR
